BEGIN:VCALENDAR
VERSION:2.0
PRODID:-//eventon.com NONSGML v1.0//EN
CALSCALE:GREGORIAN
METHOD:PUBLISH
BEGIN:VEVENT
UID:69eb92b870524
DTSTAMP:20260424T155640Z
DTSTART:20260429T220000Z
DTEND:20260429T233000Z
LOCATION:TRG Vino Market 4823 S Main Street
SUMMARY:South African Wine Tasting
DESCRIPTION:Join TRG Vino Market for an evening of South African wines from
  Babylonstoren vineyards\,  with proceeds benefiting ABA C.A.R.E.S.— an o
 rganization working to strengthen the Acworth Business Association workforc
 e through community\,  leadership development\,  and support systems that e
 levate quality of life for employees\,  employers\,  and the individuals th
 ey serve. Find[..]\nhttps://acworthtourism.org/events/south-african-wine-ta
 sting/
URL:https://acworthtourism.org/events/south-african-wine-tasting/
END:VEVENT
END:VCALENDAR