BEGIN:VCALENDAR
VERSION:2.0
PRODID:-//eventon.com NONSGML v1.0//EN
CALSCALE:GREGORIAN
METHOD:PUBLISH
BEGIN:VEVENT
UID:69eb91b1ed052
DTSTAMP:20260424T155217Z
DTSTART:20260425T230000Z
DTEND:20260426T010000Z
LOCATION:Gather &amp; Bloom 4873 N Main St
SUMMARY:Glaze Craze: A Night of Color & Ceramic Magic
DESCRIPTION:Ready to make your pottery pop? Join Dr. Pamila Dembla\,  of Th
 e Soulful Store Pottery\,  at Gather &amp; Bloom on Saturday\,  April 25th
 \,  from 7:00 PM &#8211; 9:00 PM\,  for a fun\,  relaxed evening all about 
 glaze magic! In this hands-on workshop\,  you’ll explore playful glazing 
 techniques like layering colors\,  brushing\, [..]\nhttps://acworthtourism.
 org/events/glaze-craze/
URL:https://acworthtourism.org/events/glaze-craze/
END:VEVENT
END:VCALENDAR