BEGIN:VCALENDAR
VERSION:2.0
PRODID:-//eventon.com NONSGML v1.0//EN
CALSCALE:GREGORIAN
METHOD:PUBLISH
BEGIN:VEVENT
UID:69e8d627d1262
DTSTAMP:20260422T140735Z
DTSTART:20260502T130000Z
DTEND:20260502T200000Z
LOCATION:Dallas Landing Park 5120 Allatoona Dr\,  Acworth
SUMMARY:Acworth Dragon Boat Festival
DESCRIPTION:The Acworth Dragon Boat Festival is back! This event will be he
 ld at Dallas Landing Park on Saturday\,  May 2\,  starting at 9:00 a.m. Dra
 gon Boating is an up-and-coming\,  soon to be Olympic sport\,  held by many
  communities as a fun way to benefit local charitable organizations. These 
 festivals are[..]\nhttps://acworthtourism.org/events/acworth-dragon-boat-fe
 stival/
URL:https://acworthtourism.org/events/acworth-dragon-boat-festival/
END:VEVENT
END:VCALENDAR