BEGIN:VCALENDAR
VERSION:2.0
PRODID:-//eventon.com NONSGML v1.0//EN
CALSCALE:GREGORIAN
METHOD:PUBLISH
BEGIN:VEVENT
UID:69e730d8289b1
DTSTAMP:20260421T081000Z
DTSTART:20250719T040000Z
DTEND:20250817T160000Z
LOCATION:Historic Downtown 4835 N Main St\,  Acworth\,  GA
SUMMARY:M2R Traveling Fence Gallery
DESCRIPTION:&nbsp; The City of Acworth is honored to once again host the M2
 R Fence Gallery! This curated traveling art installation will be on display
  July 19 &#8211; August 16 throughout the Historic Downtown and Parkside Di
 stricts. To learn more about Marietta Arts Council\,  please visit www.mari
 ettaartscouncil.com. &nbsp;\nhttps://acworthtourism.org/events/m2r-fence-ga
 llery/
URL:https://acworthtourism.org/events/m2r-fence-gallery/
END:VEVENT
END:VCALENDAR