BEGIN:VCALENDAR
VERSION:2.0
PRODID:-//eventon.com NONSGML v1.0//EN
CALSCALE:GREGORIAN
METHOD:PUBLISH
BEGIN:VEVENT
UID:69eaf4a9666e2
DTSTAMP:20260424T044217Z
DTSTART:20251206T180000Z
DTEND:20251206T220000Z
LOCATION:Depot Park 4794 South Main St
SUMMARY:Christmas in Acworth: Santa!
DESCRIPTION:Come see Santa in Historic Downtown Acworth! Santa will be cele
 brating the season at Depot Park on Saturday\,  December 6\,  2025. Familie
 s are welcome to stop by\,  visit\,  and take pictures. Pictures are free o
 f charge. Make sure to bring your own camera to capture this special moment
 \,  as no[..]\nhttps://acworthtourism.org/events/christmas-in-acworth-2/
URL:https://acworthtourism.org/events/christmas-in-acworth-2/
END:VEVENT
END:VCALENDAR