BEGIN:VCALENDAR
VERSION:2.0
PRODID:-//eventon.com NONSGML v1.0//EN
CALSCALE:GREGORIAN
METHOD:PUBLISH
BEGIN:VEVENT
UID:69eb2af0a59f6
DTSTAMP:20260424T083352Z
DTSTART:20220924T140000Z
DTEND:20220924T190000Z
LOCATION:Dallas Landing Park 5120 Allatoona Dr\,  Acworth
SUMMARY:Cars on the Lake
DESCRIPTION:The 2022 Save Acworth History Cars on the Lake Classic Car and 
 Bike Show will be held at Dallas Landing Park on Saturday\,  September 24 f
 rom 10:00 a.m. &#8211; 3:00 p.m. Admission is Free. If you would like to en
 ter a classic car or bike in the show for a[..]\nhttps://acworthtourism.org
 /events/cars-on-the-lake/
URL:https://acworthtourism.org/events/cars-on-the-lake/
END:VEVENT
END:VCALENDAR