BEGIN:VCALENDAR
VERSION:2.0
PRODID:-//eventon.com NONSGML v1.0//EN
CALSCALE:GREGORIAN
METHOD:PUBLISH
BEGIN:VEVENT
UID:69eb930a4ec76
DTSTAMP:20260424T155802Z
DTSTART:20260606T160000Z
DTEND:20260606T210000Z
LOCATION:Logan Farm Park 4405 Cherokee St\,  Acworth\,  GA
SUMMARY:Cornhole ATL Spring State Cornament
DESCRIPTION:Cornhole ATL is back! They will host their Spring State &#8220;
 Cornament&#8221; at Logan Farm Park hosting the best leagues from across th
 e state of Georgia. Come cheer on the teams on Saturday\,  June 6!\nhttps:/
 /acworthtourism.org/events/cornhole-atl-state-cornament/
URL:https://acworthtourism.org/events/cornhole-atl-state-cornament/
END:VEVENT
END:VCALENDAR