BEGIN:VCALENDAR
VERSION:2.0
PRODID:-//eventon.com NONSGML v1.0//EN
CALSCALE:GREGORIAN
METHOD:PUBLISH
BEGIN:VEVENT
UID:69e7a30f961df
DTSTAMP:20260421T161719Z
DTSTART:20250621T140000Z
DTEND:20250621T190000Z
LOCATION:Dallas Landing Park 5120 Allatoona Dr\,  Acworth
SUMMARY:Pro Wakeboard Tour 2025
DESCRIPTION:Get ready for an adrenaline-fueled weekend at the Pro Wakeboard
  Tour event in Acworth! On June 20 &amp; 21\,  2025\,  the world’s top wa
 keboarders &amp; wakesurfers will gather to showcase their skills and push 
 the limits of the sport. The competition will take place at Dallas Landing 
 Park on the[..]\nhttps://acworthtourism.org/events/pro-wakeboard-tour-2023/
URL:https://acworthtourism.org/events/pro-wakeboard-tour-2023/
END:VEVENT
END:VCALENDAR